BEGIN:VCALENDAR
VERSION:2.0
PRODID:https://github.com/derhansen/sf_event_mgt
METHOD:PUBLISH
BEGIN:VEVENT
UID:2423-872@www.ameos.ch
CLASS: PUBLIC
SUMMARY:Pflegekurs für pflegende Angehörige (3 Termine)
DESCRIPTION:Die Wahrscheinlichkeit nach einem Krankenhausaufenthalt auf zei
 tweise oder dauerhafte Unterstützung angewiesen zu sein, steigt mit zunehme
 ndem Alter. Aber auch eine Krankheit, ein Unfall oder ein Sturzereignis kön
 nen die häusliche Situation verändern und eine Pflege notwendig machen. Die
  AMEOS Klinika Oberhausen bieten einen kostenlosen Pflegekurs für Angehörig
 e von Patientinnen und Patienten an.\n\nEin dreitägiger Pflegekurs startet 
 am 13. Mai von 17.00 - 20.00 Uhr und wird am 20.05. und 27.05., jeweils mit
 twochs ab 17.00 Uhr fortgesetzt. Ausgebildete Pflegeberater stehen Betroffe
 nen als kompetente Helfer bei der Umsetzung häuslicher Pflege zur Seite.\n\
 nDer Kurs vermittelt die notwendigen Kenntnisse und richtigen Handgriffe, w
 ie Mobilisierungs- und Lagerungsmethoden sowie Rücken schonende Transfer-Me
 thoden. Darüber hinaus klären die Pflegeberater über Krankheitsbilder auf u
 nd geben Tipps zur Bewältigung der oft schwierigen Situation.Anmeldung unte
 r Telefon 695-6993
LOCATION:AMEOS Klinikum St. Clemens Oberhausen
DTSTAMP:20260421T082956Z
DTSTART:20260513T150000Z
DTEND:20260513T180000Z
END:VEVENT
END:VCALENDAR
