BEGIN:VCALENDAR
VERSION:2.0
PRODID:https://github.com/derhansen/sf_event_mgt
METHOD:PUBLISH
BEGIN:VEVENT
UID:3184-872@www.ameos.ch
CLASS: PUBLIC
SUMMARY:Demenzschulung für pflegende Angehörige (3 Termine)
DESCRIPTION:Die Schulung vermittelt theoretische und praktische Kenntnisse 
 über die Besonderheiten einer Demenzerkrankung. Das Wissen und der Austausc
 h helfen, ein liebevolles Verständnis für die Person mit Demenz zu entwicke
 ln und die Rolle als Betreuungsperson anzunehmen.\n\nEin Kurs umfasst drei 
 Nachmittage, jeweils von 17:00 bis 20:30 Uhr.\n\nTermine: 06.07./ 13.07./ 2
 0.07.2026 \n\nKursort: AMEOS Klinikum St. Josef Oberhausen, Mülheimer Str. 
 83, 46145 Oberhausen               oder Johanniter Krankenhaus Sterkrade\n\
 nAnmeldung: Birgit Wegener | Tel.: 0208 837 4678\n\nInfo: Alle Angebote sin
 d kostenfrei, unabhängig von der Krankenkassenzugehörigkeit. Auf Wunsch wir
 d am Ende des Kurses ein Zertifikat ausgestellt.
LOCATION:AMEOS Klinikum St. Josef Oberhausen
DTSTAMP:20260421T082717Z
DTSTART:20260706T150000Z
DTEND:20260706T183000Z
END:VEVENT
END:VCALENDAR
