BEGIN:VCALENDAR
VERSION:2.0
PRODID:https://github.com/derhansen/sf_event_mgt
METHOD:PUBLISH
BEGIN:VEVENT
UID:3607-872@www.ameos.ch
CLASS: PUBLIC
SUMMARY:Aktion zur Schlaganfall-Prävention
DESCRIPTION:Beratung, Aufklärung, Blutzucker- und Blutdruckmessung u.v.m.\n
 \nVor dem Technischen RathausKleiner Markt, Oberhausen-Sterkrade\n\n\n\n
LOCATION:Sterkrader Markt, vor dem Technischen Rathaus
DTSTAMP:20260422T115432Z
DTSTART:20260506T080000Z
DTEND:20260506T103000Z
END:VEVENT
END:VCALENDAR
